BEGIN:VCALENDAR
VERSION:2.0
PRODID:-//First Baptist Church of Saint Louis, Michigan - ECPv6.15.9//NONSGML v1.0//EN
CALSCALE:GREGORIAN
METHOD:PUBLISH
X-ORIGINAL-URL:https://connectfbcstl.org
X-WR-CALDESC:Events for First Baptist Church of Saint Louis, Michigan
REFRESH-INTERVAL;VALUE=DURATION:PT1H
X-Robots-Tag:noindex
X-PUBLISHED-TTL:PT1H
BEGIN:VTIMEZONE
TZID:America/New_York
BEGIN:DAYLIGHT
TZOFFSETFROM:-0500
TZOFFSETTO:-0400
TZNAME:EDT
DTSTART:20260308T070000
END:DAYLIGHT
BEGIN:STANDARD
TZOFFSETFROM:-0400
TZOFFSETTO:-0500
TZNAME:EST
DTSTART:20261101T060000
END:STANDARD
BEGIN:DAYLIGHT
TZOFFSETFROM:-0500
TZOFFSETTO:-0400
TZNAME:EDT
DTSTART:20270314T070000
END:DAYLIGHT
BEGIN:STANDARD
TZOFFSETFROM:-0400
TZOFFSETTO:-0500
TZNAME:EST
DTSTART:20271107T060000
END:STANDARD
BEGIN:DAYLIGHT
TZOFFSETFROM:-0500
TZOFFSETTO:-0400
TZNAME:EDT
DTSTART:20280312T070000
END:DAYLIGHT
BEGIN:STANDARD
TZOFFSETFROM:-0400
TZOFFSETTO:-0500
TZNAME:EST
DTSTART:20281105T060000
END:STANDARD
END:VTIMEZONE
BEGIN:VEVENT
DTSTART;TZID=America/New_York:20270502T173000
DTEND;TZID=America/New_York:20270502T193000
DTSTAMP:20260422T023350
CREATED:20250926T195720Z
LAST-MODIFIED:20250926T195720Z
UID:10002211-1809279000-1809286200@connectfbcstl.org
SUMMARY:Youth Group
DESCRIPTION:
URL:https://connectfbcstl.org/event/youth-group/2027-05-02/
LOCATION:First Baptist Church of St. Louis\, 120 Michigan Ave\, Saint Louis\, Michigan\, 48880\, United States
CATEGORIES:Childrens Ministry
END:VEVENT
BEGIN:VEVENT
DTSTART;TZID=America/New_York:20270505T173000
DTEND;TZID=America/New_York:20270505T193000
DTSTAMP:20260422T023350
CREATED:20250926T195643Z
LAST-MODIFIED:20250926T195643Z
UID:10001688-1809538200-1809545400@connectfbcstl.org
SUMMARY:Explorers Club
DESCRIPTION:
URL:https://connectfbcstl.org/event/explorers-club/2027-05-05/
LOCATION:First Baptist Church of St. Louis\, 120 Michigan Ave\, Saint Louis\, Michigan\, 48880\, United States
CATEGORIES:Childrens Ministry
END:VEVENT
BEGIN:VEVENT
DTSTART;TZID=America/New_York:20270509T173000
DTEND;TZID=America/New_York:20270509T193000
DTSTAMP:20260422T023350
CREATED:20250926T195720Z
LAST-MODIFIED:20250926T195720Z
UID:10002212-1809883800-1809891000@connectfbcstl.org
SUMMARY:Youth Group
DESCRIPTION:
URL:https://connectfbcstl.org/event/youth-group/2027-05-09/
LOCATION:First Baptist Church of St. Louis\, 120 Michigan Ave\, Saint Louis\, Michigan\, 48880\, United States
CATEGORIES:Childrens Ministry
END:VEVENT
BEGIN:VEVENT
DTSTART;TZID=America/New_York:20270512T173000
DTEND;TZID=America/New_York:20270512T193000
DTSTAMP:20260422T023350
CREATED:20250926T195643Z
LAST-MODIFIED:20250926T195643Z
UID:10001689-1810143000-1810150200@connectfbcstl.org
SUMMARY:Explorers Club
DESCRIPTION:
URL:https://connectfbcstl.org/event/explorers-club/2027-05-12/
LOCATION:First Baptist Church of St. Louis\, 120 Michigan Ave\, Saint Louis\, Michigan\, 48880\, United States
CATEGORIES:Childrens Ministry
END:VEVENT
BEGIN:VEVENT
DTSTART;TZID=America/New_York:20270516T173000
DTEND;TZID=America/New_York:20270516T193000
DTSTAMP:20260422T023350
CREATED:20250926T195720Z
LAST-MODIFIED:20250926T195720Z
UID:10002213-1810488600-1810495800@connectfbcstl.org
SUMMARY:Youth Group
DESCRIPTION:
URL:https://connectfbcstl.org/event/youth-group/2027-05-16/
LOCATION:First Baptist Church of St. Louis\, 120 Michigan Ave\, Saint Louis\, Michigan\, 48880\, United States
CATEGORIES:Childrens Ministry
END:VEVENT
BEGIN:VEVENT
DTSTART;TZID=America/New_York:20270519T173000
DTEND;TZID=America/New_York:20270519T193000
DTSTAMP:20260422T023350
CREATED:20250926T195643Z
LAST-MODIFIED:20250926T195643Z
UID:10001690-1810747800-1810755000@connectfbcstl.org
SUMMARY:Explorers Club
DESCRIPTION:
URL:https://connectfbcstl.org/event/explorers-club/2027-05-19/
LOCATION:First Baptist Church of St. Louis\, 120 Michigan Ave\, Saint Louis\, Michigan\, 48880\, United States
CATEGORIES:Childrens Ministry
END:VEVENT
BEGIN:VEVENT
DTSTART;TZID=America/New_York:20270523T173000
DTEND;TZID=America/New_York:20270523T193000
DTSTAMP:20260422T023350
CREATED:20250926T195720Z
LAST-MODIFIED:20250926T195720Z
UID:10002214-1811093400-1811100600@connectfbcstl.org
SUMMARY:Youth Group
DESCRIPTION:
URL:https://connectfbcstl.org/event/youth-group/2027-05-23/
LOCATION:First Baptist Church of St. Louis\, 120 Michigan Ave\, Saint Louis\, Michigan\, 48880\, United States
CATEGORIES:Childrens Ministry
END:VEVENT
BEGIN:VEVENT
DTSTART;TZID=America/New_York:20270526T173000
DTEND;TZID=America/New_York:20270526T193000
DTSTAMP:20260422T023350
CREATED:20250926T195643Z
LAST-MODIFIED:20250926T195643Z
UID:10001691-1811352600-1811359800@connectfbcstl.org
SUMMARY:Explorers Club
DESCRIPTION:
URL:https://connectfbcstl.org/event/explorers-club/2027-05-26/
LOCATION:First Baptist Church of St. Louis\, 120 Michigan Ave\, Saint Louis\, Michigan\, 48880\, United States
CATEGORIES:Childrens Ministry
END:VEVENT
BEGIN:VEVENT
DTSTART;TZID=America/New_York:20270530T173000
DTEND;TZID=America/New_York:20270530T193000
DTSTAMP:20260422T023350
CREATED:20250926T195720Z
LAST-MODIFIED:20250926T195720Z
UID:10002215-1811698200-1811705400@connectfbcstl.org
SUMMARY:Youth Group
DESCRIPTION:
URL:https://connectfbcstl.org/event/youth-group/2027-05-30/
LOCATION:First Baptist Church of St. Louis\, 120 Michigan Ave\, Saint Louis\, Michigan\, 48880\, United States
CATEGORIES:Childrens Ministry
END:VEVENT
END:VCALENDAR