BEGIN:VCALENDAR
VERSION:2.0
PRODID:-//First Baptist Church of Saint Louis, Michigan - ECPv6.15.9//NONSGML v1.0//EN
CALSCALE:GREGORIAN
METHOD:PUBLISH
X-ORIGINAL-URL:https://connectfbcstl.org
X-WR-CALDESC:Events for First Baptist Church of Saint Louis, Michigan
REFRESH-INTERVAL;VALUE=DURATION:PT1H
X-Robots-Tag:noindex
X-PUBLISHED-TTL:PT1H
BEGIN:VTIMEZONE
TZID:America/New_York
BEGIN:DAYLIGHT
TZOFFSETFROM:-0500
TZOFFSETTO:-0400
TZNAME:EDT
DTSTART:20260308T070000
END:DAYLIGHT
BEGIN:STANDARD
TZOFFSETFROM:-0400
TZOFFSETTO:-0500
TZNAME:EST
DTSTART:20261101T060000
END:STANDARD
BEGIN:DAYLIGHT
TZOFFSETFROM:-0500
TZOFFSETTO:-0400
TZNAME:EDT
DTSTART:20270314T070000
END:DAYLIGHT
BEGIN:STANDARD
TZOFFSETFROM:-0400
TZOFFSETTO:-0500
TZNAME:EST
DTSTART:20271107T060000
END:STANDARD
BEGIN:DAYLIGHT
TZOFFSETFROM:-0500
TZOFFSETTO:-0400
TZNAME:EDT
DTSTART:20280312T070000
END:DAYLIGHT
BEGIN:STANDARD
TZOFFSETFROM:-0400
TZOFFSETTO:-0500
TZNAME:EST
DTSTART:20281105T060000
END:STANDARD
END:VTIMEZONE
BEGIN:VEVENT
DTSTART;TZID=America/New_York:20270303T173000
DTEND;TZID=America/New_York:20270303T193000
DTSTAMP:20260421T182113
CREATED:20250926T195643Z
LAST-MODIFIED:20250926T195643Z
UID:10001679-1804095000-1804102200@connectfbcstl.org
SUMMARY:Explorers Club
DESCRIPTION:
URL:https://connectfbcstl.org/event/explorers-club/2027-03-03/
LOCATION:First Baptist Church of St. Louis\, 120 Michigan Ave\, Saint Louis\, Michigan\, 48880\, United States
CATEGORIES:Childrens Ministry
END:VEVENT
BEGIN:VEVENT
DTSTART;TZID=America/New_York:20270307T173000
DTEND;TZID=America/New_York:20270307T193000
DTSTAMP:20260421T182113
CREATED:20250926T195720Z
LAST-MODIFIED:20250926T195720Z
UID:10002203-1804440600-1804447800@connectfbcstl.org
SUMMARY:Youth Group
DESCRIPTION:
URL:https://connectfbcstl.org/event/youth-group/2027-03-07/
LOCATION:First Baptist Church of St. Louis\, 120 Michigan Ave\, Saint Louis\, Michigan\, 48880\, United States
CATEGORIES:Childrens Ministry
END:VEVENT
BEGIN:VEVENT
DTSTART;TZID=America/New_York:20270310T173000
DTEND;TZID=America/New_York:20270310T193000
DTSTAMP:20260421T182113
CREATED:20250926T195643Z
LAST-MODIFIED:20250926T195643Z
UID:10001680-1804699800-1804707000@connectfbcstl.org
SUMMARY:Explorers Club
DESCRIPTION:
URL:https://connectfbcstl.org/event/explorers-club/2027-03-10/
LOCATION:First Baptist Church of St. Louis\, 120 Michigan Ave\, Saint Louis\, Michigan\, 48880\, United States
CATEGORIES:Childrens Ministry
END:VEVENT
BEGIN:VEVENT
DTSTART;TZID=America/New_York:20270314T173000
DTEND;TZID=America/New_York:20270314T193000
DTSTAMP:20260421T182113
CREATED:20250926T195720Z
LAST-MODIFIED:20250926T195720Z
UID:10002204-1805045400-1805052600@connectfbcstl.org
SUMMARY:Youth Group
DESCRIPTION:
URL:https://connectfbcstl.org/event/youth-group/2027-03-14/
LOCATION:First Baptist Church of St. Louis\, 120 Michigan Ave\, Saint Louis\, Michigan\, 48880\, United States
CATEGORIES:Childrens Ministry
END:VEVENT
BEGIN:VEVENT
DTSTART;TZID=America/New_York:20270317T173000
DTEND;TZID=America/New_York:20270317T193000
DTSTAMP:20260421T182113
CREATED:20250926T195643Z
LAST-MODIFIED:20250926T195643Z
UID:10001681-1805304600-1805311800@connectfbcstl.org
SUMMARY:Explorers Club
DESCRIPTION:
URL:https://connectfbcstl.org/event/explorers-club/2027-03-17/
LOCATION:First Baptist Church of St. Louis\, 120 Michigan Ave\, Saint Louis\, Michigan\, 48880\, United States
CATEGORIES:Childrens Ministry
END:VEVENT
BEGIN:VEVENT
DTSTART;TZID=America/New_York:20270321T173000
DTEND;TZID=America/New_York:20270321T193000
DTSTAMP:20260421T182113
CREATED:20250926T195720Z
LAST-MODIFIED:20250926T195720Z
UID:10002205-1805650200-1805657400@connectfbcstl.org
SUMMARY:Youth Group
DESCRIPTION:
URL:https://connectfbcstl.org/event/youth-group/2027-03-21/
LOCATION:First Baptist Church of St. Louis\, 120 Michigan Ave\, Saint Louis\, Michigan\, 48880\, United States
CATEGORIES:Childrens Ministry
END:VEVENT
BEGIN:VEVENT
DTSTART;TZID=America/New_York:20270324T173000
DTEND;TZID=America/New_York:20270324T193000
DTSTAMP:20260421T182113
CREATED:20250926T195643Z
LAST-MODIFIED:20250926T195643Z
UID:10001682-1805909400-1805916600@connectfbcstl.org
SUMMARY:Explorers Club
DESCRIPTION:
URL:https://connectfbcstl.org/event/explorers-club/2027-03-24/
LOCATION:First Baptist Church of St. Louis\, 120 Michigan Ave\, Saint Louis\, Michigan\, 48880\, United States
CATEGORIES:Childrens Ministry
END:VEVENT
BEGIN:VEVENT
DTSTART;TZID=America/New_York:20270328T173000
DTEND;TZID=America/New_York:20270328T193000
DTSTAMP:20260421T182113
CREATED:20250926T195720Z
LAST-MODIFIED:20250926T195720Z
UID:10002206-1806255000-1806262200@connectfbcstl.org
SUMMARY:Youth Group
DESCRIPTION:
URL:https://connectfbcstl.org/event/youth-group/2027-03-28/
LOCATION:First Baptist Church of St. Louis\, 120 Michigan Ave\, Saint Louis\, Michigan\, 48880\, United States
CATEGORIES:Childrens Ministry
END:VEVENT
BEGIN:VEVENT
DTSTART;TZID=America/New_York:20270331T173000
DTEND;TZID=America/New_York:20270331T193000
DTSTAMP:20260421T182113
CREATED:20250926T195643Z
LAST-MODIFIED:20250926T195643Z
UID:10001683-1806514200-1806521400@connectfbcstl.org
SUMMARY:Explorers Club
DESCRIPTION:
URL:https://connectfbcstl.org/event/explorers-club/2027-03-31/
LOCATION:First Baptist Church of St. Louis\, 120 Michigan Ave\, Saint Louis\, Michigan\, 48880\, United States
CATEGORIES:Childrens Ministry
END:VEVENT
END:VCALENDAR