BEGIN:VCALENDAR
VERSION:2.0
PRODID:-//First Baptist Church of Saint Louis, Michigan - ECPv6.15.9//NONSGML v1.0//EN
CALSCALE:GREGORIAN
METHOD:PUBLISH
X-WR-CALNAME:First Baptist Church of Saint Louis, Michigan
X-ORIGINAL-URL:https://connectfbcstl.org
X-WR-CALDESC:Events for First Baptist Church of Saint Louis, Michigan
REFRESH-INTERVAL;VALUE=DURATION:PT1H
X-Robots-Tag:noindex
X-PUBLISHED-TTL:PT1H
BEGIN:VTIMEZONE
TZID:America/New_York
BEGIN:DAYLIGHT
TZOFFSETFROM:-0500
TZOFFSETTO:-0400
TZNAME:EDT
DTSTART:20260308T070000
END:DAYLIGHT
BEGIN:STANDARD
TZOFFSETFROM:-0400
TZOFFSETTO:-0500
TZNAME:EST
DTSTART:20261101T060000
END:STANDARD
BEGIN:DAYLIGHT
TZOFFSETFROM:-0500
TZOFFSETTO:-0400
TZNAME:EDT
DTSTART:20270314T070000
END:DAYLIGHT
BEGIN:STANDARD
TZOFFSETFROM:-0400
TZOFFSETTO:-0500
TZNAME:EST
DTSTART:20271107T060000
END:STANDARD
BEGIN:DAYLIGHT
TZOFFSETFROM:-0500
TZOFFSETTO:-0400
TZNAME:EDT
DTSTART:20280312T070000
END:DAYLIGHT
BEGIN:STANDARD
TZOFFSETFROM:-0400
TZOFFSETTO:-0500
TZNAME:EST
DTSTART:20281105T060000
END:STANDARD
END:VTIMEZONE
BEGIN:VEVENT
DTSTART;TZID=America/New_York:20270203T173000
DTEND;TZID=America/New_York:20270203T193000
DTSTAMP:20260421T182721
CREATED:20250926T195643Z
LAST-MODIFIED:20250926T195643Z
UID:10001675-1801675800-1801683000@connectfbcstl.org
SUMMARY:Explorers Club
DESCRIPTION:
URL:https://connectfbcstl.org/event/explorers-club/2027-02-03/
LOCATION:First Baptist Church of St. Louis\, 120 Michigan Ave\, Saint Louis\, Michigan\, 48880\, United States
CATEGORIES:Childrens Ministry
END:VEVENT
BEGIN:VEVENT
DTSTART;TZID=America/New_York:20270207T173000
DTEND;TZID=America/New_York:20270207T193000
DTSTAMP:20260421T182721
CREATED:20250926T195720Z
LAST-MODIFIED:20250926T195720Z
UID:10002199-1802021400-1802028600@connectfbcstl.org
SUMMARY:Youth Group
DESCRIPTION:
URL:https://connectfbcstl.org/event/youth-group/2027-02-07/
LOCATION:First Baptist Church of St. Louis\, 120 Michigan Ave\, Saint Louis\, Michigan\, 48880\, United States
CATEGORIES:Childrens Ministry
END:VEVENT
BEGIN:VEVENT
DTSTART;TZID=America/New_York:20270210T173000
DTEND;TZID=America/New_York:20270210T193000
DTSTAMP:20260421T182721
CREATED:20250926T195643Z
LAST-MODIFIED:20250926T195643Z
UID:10001676-1802280600-1802287800@connectfbcstl.org
SUMMARY:Explorers Club
DESCRIPTION:
URL:https://connectfbcstl.org/event/explorers-club/2027-02-10/
LOCATION:First Baptist Church of St. Louis\, 120 Michigan Ave\, Saint Louis\, Michigan\, 48880\, United States
CATEGORIES:Childrens Ministry
END:VEVENT
BEGIN:VEVENT
DTSTART;TZID=America/New_York:20270214T173000
DTEND;TZID=America/New_York:20270214T193000
DTSTAMP:20260421T182721
CREATED:20250926T195720Z
LAST-MODIFIED:20250926T195720Z
UID:10002200-1802626200-1802633400@connectfbcstl.org
SUMMARY:Youth Group
DESCRIPTION:
URL:https://connectfbcstl.org/event/youth-group/2027-02-14/
LOCATION:First Baptist Church of St. Louis\, 120 Michigan Ave\, Saint Louis\, Michigan\, 48880\, United States
CATEGORIES:Childrens Ministry
END:VEVENT
BEGIN:VEVENT
DTSTART;TZID=America/New_York:20270217T173000
DTEND;TZID=America/New_York:20270217T193000
DTSTAMP:20260421T182721
CREATED:20250926T195643Z
LAST-MODIFIED:20250926T195643Z
UID:10001677-1802885400-1802892600@connectfbcstl.org
SUMMARY:Explorers Club
DESCRIPTION:
URL:https://connectfbcstl.org/event/explorers-club/2027-02-17/
LOCATION:First Baptist Church of St. Louis\, 120 Michigan Ave\, Saint Louis\, Michigan\, 48880\, United States
CATEGORIES:Childrens Ministry
END:VEVENT
BEGIN:VEVENT
DTSTART;TZID=America/New_York:20270221T173000
DTEND;TZID=America/New_York:20270221T193000
DTSTAMP:20260421T182721
CREATED:20250926T195720Z
LAST-MODIFIED:20250926T195720Z
UID:10002201-1803231000-1803238200@connectfbcstl.org
SUMMARY:Youth Group
DESCRIPTION:
URL:https://connectfbcstl.org/event/youth-group/2027-02-21/
LOCATION:First Baptist Church of St. Louis\, 120 Michigan Ave\, Saint Louis\, Michigan\, 48880\, United States
CATEGORIES:Childrens Ministry
END:VEVENT
BEGIN:VEVENT
DTSTART;TZID=America/New_York:20270224T173000
DTEND;TZID=America/New_York:20270224T193000
DTSTAMP:20260421T182721
CREATED:20250926T195643Z
LAST-MODIFIED:20250926T195643Z
UID:10001678-1803490200-1803497400@connectfbcstl.org
SUMMARY:Explorers Club
DESCRIPTION:
URL:https://connectfbcstl.org/event/explorers-club/2027-02-24/
LOCATION:First Baptist Church of St. Louis\, 120 Michigan Ave\, Saint Louis\, Michigan\, 48880\, United States
CATEGORIES:Childrens Ministry
END:VEVENT
BEGIN:VEVENT
DTSTART;TZID=America/New_York:20270228T173000
DTEND;TZID=America/New_York:20270228T193000
DTSTAMP:20260421T182721
CREATED:20250926T195720Z
LAST-MODIFIED:20250926T195720Z
UID:10002202-1803835800-1803843000@connectfbcstl.org
SUMMARY:Youth Group
DESCRIPTION:
URL:https://connectfbcstl.org/event/youth-group/2027-02-28/
LOCATION:First Baptist Church of St. Louis\, 120 Michigan Ave\, Saint Louis\, Michigan\, 48880\, United States
CATEGORIES:Childrens Ministry
END:VEVENT
END:VCALENDAR