BEGIN:VCALENDAR
VERSION:2.0
PRODID:-//First Baptist Church of Saint Louis, Michigan - ECPv6.15.9//NONSGML v1.0//EN
CALSCALE:GREGORIAN
METHOD:PUBLISH
X-ORIGINAL-URL:https://connectfbcstl.org
X-WR-CALDESC:Events for First Baptist Church of Saint Louis, Michigan
REFRESH-INTERVAL;VALUE=DURATION:PT1H
X-Robots-Tag:noindex
X-PUBLISHED-TTL:PT1H
BEGIN:VTIMEZONE
TZID:America/New_York
BEGIN:DAYLIGHT
TZOFFSETFROM:-0500
TZOFFSETTO:-0400
TZNAME:EDT
DTSTART:20250309T070000
END:DAYLIGHT
BEGIN:STANDARD
TZOFFSETFROM:-0400
TZOFFSETTO:-0500
TZNAME:EST
DTSTART:20251102T060000
END:STANDARD
BEGIN:DAYLIGHT
TZOFFSETFROM:-0500
TZOFFSETTO:-0400
TZNAME:EDT
DTSTART:20260308T070000
END:DAYLIGHT
BEGIN:STANDARD
TZOFFSETFROM:-0400
TZOFFSETTO:-0500
TZNAME:EST
DTSTART:20261101T060000
END:STANDARD
BEGIN:DAYLIGHT
TZOFFSETFROM:-0500
TZOFFSETTO:-0400
TZNAME:EDT
DTSTART:20270314T070000
END:DAYLIGHT
BEGIN:STANDARD
TZOFFSETFROM:-0400
TZOFFSETTO:-0500
TZNAME:EST
DTSTART:20271107T060000
END:STANDARD
END:VTIMEZONE
BEGIN:VEVENT
DTSTART;TZID=America/New_York:20260902T173000
DTEND;TZID=America/New_York:20260902T193000
DTSTAMP:20260421T082946
CREATED:20250926T195643Z
LAST-MODIFIED:20250926T195643Z
UID:10001653-1788370200-1788377400@connectfbcstl.org
SUMMARY:Explorers Club
DESCRIPTION:
URL:https://connectfbcstl.org/event/explorers-club/2026-09-02/
LOCATION:First Baptist Church of St. Louis\, 120 Michigan Ave\, Saint Louis\, Michigan\, 48880\, United States
CATEGORIES:Childrens Ministry
END:VEVENT
BEGIN:VEVENT
DTSTART;TZID=America/New_York:20260906T173000
DTEND;TZID=America/New_York:20260906T193000
DTSTAMP:20260421T082946
CREATED:20250926T195720Z
LAST-MODIFIED:20250926T195720Z
UID:10002177-1788715800-1788723000@connectfbcstl.org
SUMMARY:Youth Group
DESCRIPTION:
URL:https://connectfbcstl.org/event/youth-group/2026-09-06/
LOCATION:First Baptist Church of St. Louis\, 120 Michigan Ave\, Saint Louis\, Michigan\, 48880\, United States
CATEGORIES:Childrens Ministry
END:VEVENT
BEGIN:VEVENT
DTSTART;TZID=America/New_York:20260909T173000
DTEND;TZID=America/New_York:20260909T193000
DTSTAMP:20260421T082946
CREATED:20250926T195643Z
LAST-MODIFIED:20250926T195643Z
UID:10001654-1788975000-1788982200@connectfbcstl.org
SUMMARY:Explorers Club
DESCRIPTION:
URL:https://connectfbcstl.org/event/explorers-club/2026-09-09/
LOCATION:First Baptist Church of St. Louis\, 120 Michigan Ave\, Saint Louis\, Michigan\, 48880\, United States
CATEGORIES:Childrens Ministry
END:VEVENT
BEGIN:VEVENT
DTSTART;TZID=America/New_York:20260913T173000
DTEND;TZID=America/New_York:20260913T193000
DTSTAMP:20260421T082946
CREATED:20250926T195720Z
LAST-MODIFIED:20250926T195720Z
UID:10002178-1789320600-1789327800@connectfbcstl.org
SUMMARY:Youth Group
DESCRIPTION:
URL:https://connectfbcstl.org/event/youth-group/2026-09-13/
LOCATION:First Baptist Church of St. Louis\, 120 Michigan Ave\, Saint Louis\, Michigan\, 48880\, United States
CATEGORIES:Childrens Ministry
END:VEVENT
BEGIN:VEVENT
DTSTART;TZID=America/New_York:20260916T173000
DTEND;TZID=America/New_York:20260916T193000
DTSTAMP:20260421T082946
CREATED:20250926T195643Z
LAST-MODIFIED:20250926T195643Z
UID:10001655-1789579800-1789587000@connectfbcstl.org
SUMMARY:Explorers Club
DESCRIPTION:
URL:https://connectfbcstl.org/event/explorers-club/2026-09-16/
LOCATION:First Baptist Church of St. Louis\, 120 Michigan Ave\, Saint Louis\, Michigan\, 48880\, United States
CATEGORIES:Childrens Ministry
END:VEVENT
BEGIN:VEVENT
DTSTART;TZID=America/New_York:20260920T173000
DTEND;TZID=America/New_York:20260920T193000
DTSTAMP:20260421T082946
CREATED:20250926T195720Z
LAST-MODIFIED:20250926T195720Z
UID:10002179-1789925400-1789932600@connectfbcstl.org
SUMMARY:Youth Group
DESCRIPTION:
URL:https://connectfbcstl.org/event/youth-group/2026-09-20/
LOCATION:First Baptist Church of St. Louis\, 120 Michigan Ave\, Saint Louis\, Michigan\, 48880\, United States
CATEGORIES:Childrens Ministry
END:VEVENT
BEGIN:VEVENT
DTSTART;TZID=America/New_York:20260923T173000
DTEND;TZID=America/New_York:20260923T193000
DTSTAMP:20260421T082946
CREATED:20250926T195643Z
LAST-MODIFIED:20250926T195643Z
UID:10001656-1790184600-1790191800@connectfbcstl.org
SUMMARY:Explorers Club
DESCRIPTION:
URL:https://connectfbcstl.org/event/explorers-club/2026-09-23/
LOCATION:First Baptist Church of St. Louis\, 120 Michigan Ave\, Saint Louis\, Michigan\, 48880\, United States
CATEGORIES:Childrens Ministry
END:VEVENT
BEGIN:VEVENT
DTSTART;TZID=America/New_York:20260927T173000
DTEND;TZID=America/New_York:20260927T193000
DTSTAMP:20260421T082946
CREATED:20250926T195720Z
LAST-MODIFIED:20250926T195720Z
UID:10002180-1790530200-1790537400@connectfbcstl.org
SUMMARY:Youth Group
DESCRIPTION:
URL:https://connectfbcstl.org/event/youth-group/2026-09-27/
LOCATION:First Baptist Church of St. Louis\, 120 Michigan Ave\, Saint Louis\, Michigan\, 48880\, United States
CATEGORIES:Childrens Ministry
END:VEVENT
BEGIN:VEVENT
DTSTART;TZID=America/New_York:20260930T173000
DTEND;TZID=America/New_York:20260930T193000
DTSTAMP:20260421T082946
CREATED:20250926T195643Z
LAST-MODIFIED:20250926T195643Z
UID:10001657-1790789400-1790796600@connectfbcstl.org
SUMMARY:Explorers Club
DESCRIPTION:
URL:https://connectfbcstl.org/event/explorers-club/2026-09-30/
LOCATION:First Baptist Church of St. Louis\, 120 Michigan Ave\, Saint Louis\, Michigan\, 48880\, United States
CATEGORIES:Childrens Ministry
END:VEVENT
END:VCALENDAR